BEGIN:VCALENDAR
VERSION:2.0
PRODID:-//ChamberMaster//Event Calendar 2.0//EN
METHOD:PUBLISH
X-PUBLISHED-TTL:P3D
REFRESH-INTERVAL:P3D
CALSCALE:GREGORIAN
BEGIN:VEVENT
DTSTART:20151114T230000Z
DTEND:20151115T010000Z
X-MICROSOFT-CDO-ALLDAYEVENT:FALSE
SUMMARY:WPD Chief Russell's Retirement Party
DESCRIPTION:Woodburn Proud and the City of Woodburn invite you to Woodburn Police Chief Scott Russell's Retirement Party on Saturday\, November 14\, 2015\, held at Woodburn Foursquare Church (1175 E Lincoln St\, Woodburn).\n\n\n\nJoin us from 3-7pm as we celebrate and thank the Chief for the contributions he has made to our community.\n\n\n\nLight Refreshments will be provided.
X-ALT-DESC;FMTTYPE=text/html:<span style="font-size:14px"><span style="font-family:arial\,helvetica\,sans-serif">Woodburn Proud and the City of Woodburn invite you to Woodburn Police Chief Scott Russell&#39\;s Retirement&nbsp\;Party on Saturday\, November 14\, 2015\, held at Woodburn Foursquare Church (1175 E Lincoln St\, Woodburn).<br />\n<br />\nJoin us from 3-7pm as we celebrate and thank the Chief for the contributions he has made to our community.<br />\n<br />\nLight Refreshments will be provided.</span></span>
LOCATION:Woodburn Foursquare Church\, 1175 E Lincoln St\, Woodburn
UID:e.1205.8943
SEQUENCE:3
DTSTAMP:20260425T172131Z
URL:https://business.woodburnchamber.org/events/details/wpd-chief-russell-s-retirement-party-11-14-2015-8943
END:VEVENT

END:VCALENDAR
