BEGIN:VCALENDAR
VERSION:2.0
PRODID:-//ChamberMaster//Event Calendar 2.0//EN
METHOD:PUBLISH
X-PUBLISHED-TTL:P3D
REFRESH-INTERVAL:P3D
CALSCALE:GREGORIAN
BEGIN:VEVENT
DTSTART:20151113T154500Z
DTEND:20151113T233000Z
X-MICROSOFT-CDO-ALLDAYEVENT:FALSE
SUMMARY:Lung Force Expo
DESCRIPTION:Greetings\, Join us for the 2015 LUNG FORCE Expo! This special one-day educational event will bring together healthcare professionals\, patients and caregivers with leading experts to learn about cutting edge treatments\, resources and research to battle lung cancer\, COPD\, asthma and other lung diseases. The event will also feature resources from exhibitors and lunch will be provided. For more information\, visit our page at http://action.lung.org/site/TR?fr_id=12680&pg=entry.
X-ALT-DESC;FMTTYPE=text/html:Greetings\, Join us for the 2015 LUNG FORCE Expo! This special one-day educational event will bring together healthcare professionals\, patients and caregivers with leading experts to learn about cutting edge treatments\, resources and research to battle lung cancer\, COPD\, asthma and other lung diseases. The event will also feature resources from exhibitors and lunch will be provided. For more information\, visit our page at http://action.lung.org/site/TR?fr_id=12680&amp\;pg=entry.
LOCATION:Monarch Hotel and Conference Center 12566 SE 93rd Avenue Clackamas\, OR 97015
UID:e.1205.8942
SEQUENCE:3
DTSTAMP:20260425T154320Z
URL:https://business.woodburnchamber.org/events/details/lung-force-expo-11-13-2015-8942
END:VEVENT

END:VCALENDAR
