BEGIN:VCALENDAR
VERSION:2.0
PRODID:-//ChamberMaster//Event Calendar 2.0//EN
METHOD:PUBLISH
X-PUBLISHED-TTL:P3D
REFRESH-INTERVAL:P3D
CALSCALE:GREGORIAN
BEGIN:VEVENT
DTSTART:20151114T170000Z
DTEND:20151114T190000Z
X-MICROSOFT-CDO-ALLDAYEVENT:FALSE
SUMMARY:Lil Hammeers
DESCRIPTION:Lil Hammers   \n\nWindow Bird Feeders
X-ALT-DESC;FMTTYPE=text/html:Lil Hammers&nbsp\;&nbsp\;&nbsp\;<br />\nWindow Bird Feeders&nbsp\;
LOCATION:Long Bros. Building Suppley 195 Birds Eye Ave
UID:e.1205.8945
SEQUENCE:3
DTSTAMP:20260425T154537Z
URL:https://business.woodburnchamber.org/events/details/lil-hammeers-11-14-2015-8945
END:VEVENT

END:VCALENDAR
