BEGIN:VCALENDAR
VERSION:2.0
PRODID:-//ChamberMaster//Event Calendar 2.0//EN
METHOD:PUBLISH
X-PUBLISHED-TTL:P3D
REFRESH-INTERVAL:P3D
CALSCALE:GREGORIAN
BEGIN:VEVENT
DTSTART:20260501T143000Z
DTEND:20260501T160000Z
X-MICROSOFT-CDO-ALLDAYEVENT:FALSE
SUMMARY:GREETERS - Woodburn Fire District
DESCRIPTION:Join us for Greeters to learn the facts about the upcoming levy.
X-ALT-DESC;FMTTYPE=text/html:<font color="#444444" face="Arial\, Helvetica\, sans-serif"><span style="font-size: 14px\;">Join us for Greeters to learn the facts about the upcoming levy.</span></font>
LOCATION:Woodburn Fire District 1776 Newberg Hwy Woodburn\, OR 97071
UID:e.1205.12205
SEQUENCE:3
DTSTAMP:20260424T235606Z
URL:https://business.woodburnchamber.org/events/details/greeters-woodburn-fire-district-12205
END:VEVENT

END:VCALENDAR
