BEGIN:VCALENDAR
VERSION:2.0
PRODID:-//ChamberMaster//Event Calendar 2.0//EN
METHOD:PUBLISH
X-PUBLISHED-TTL:P3D
REFRESH-INTERVAL:P3D
CALSCALE:GREGORIAN
BEGIN:VEVENT
DTSTART:20260529T143000Z
DTEND:20260529T160000Z
X-MICROSOFT-CDO-ALLDAYEVENT:FALSE
SUMMARY:Greeters - Woodburn Eagles
DESCRIPTION:Join us for Greeters hosted by the Fraternal Order of Eagles #3284 in Woodburn. Come learn all the ways the Aerie is involved in the community\, charitable causes and socializing with friends.
X-ALT-DESC;FMTTYPE=text/html:Join us for Greeters hosted by the Fraternal Order of Eagles #3284 in Woodburn. Come learn all the ways the Aerie is involved in the community\, charitable causes and socializing with friends.
LOCATION:Woodburn Eagles 371 S Pacific Highway Woodburn\, OR 97071
UID:e.1205.12209
SEQUENCE:3
DTSTAMP:20260424T235919Z
URL:https://business.woodburnchamber.org/events/details/greeters-woodburn-eagles-12209
END:VEVENT

END:VCALENDAR
