BEGIN:VCALENDAR
VERSION:2.0
PRODID:-//ChamberMaster//Event Calendar 2.0//EN
METHOD:PUBLISH
X-PUBLISHED-TTL:P3D
REFRESH-INTERVAL:P3D
CALSCALE:GREGORIAN
BEGIN:VEVENT
DTSTART:20260116T153000Z
DTEND:20260116T170000Z
X-MICROSOFT-CDO-ALLDAYEVENT:FALSE
SUMMARY:Greeters - Portland General Electric
DESCRIPTION:Join us for Greeters Hosted by Portland General Electric\n\n\n\nA networking group dedicated to "Growing Your Business". Bring a raffle prize\, some business cards to share\, and a guest!
X-ALT-DESC;FMTTYPE=text/html:<span style="display: inline !important\; float: none\; background-color: transparent\; border-collapse: separate\; color: rgb(68\, 68\, 68)\; direction: ltr\; empty-cells: show\; font-family: Arial\,Helvetica\,sans-serif\; font-size: 14px\; font-size-adjust: none\; font-stretch: normal\; font-style: normal\; font-variant: normal\; font-weight: 200\; letter-spacing: normal\; line-height: 18.2px\; orphans: 2\; text-align: left\; text-decoration: none\; text-indent: 0px\; text-justify: auto\; text-transform: none\; visibility: visible\; -webkit-text-stroke-width: 0px\; white-space: normal\; word-break: normal\; word-spacing: 0px\; word-wrap: normal\;">Join us for Greeters Hosted by Portland General Electric<br />\n<br />\nA</span><font color="#000000" face="Calibri" style="background-attachment: scroll\; background-clip: border-box\; background-color: transparent\; background-image: none\; background-origin: padding-box\; background-position-x: 0%\; background-position-y: 0%\; background-repeat: repeat\; background-size: auto\; border-bottom-color: rgb(0\, 0\, 0)\; border-bottom-left-radius: 0px\; border-bottom-right-radius: 0px\; border-bottom-style: none\; border-bottom-width: 0px\; border-collapse: separate\; border-image-outset: 0\; border-image-repeat: stretch\; border-image-slice: 100%\; border-image-source: none\; border-image-width: 1\; border-left-color: rgb(0\, 0\, 0)\; border-left-style: none\; border-left-width: 0px\; border-right-color: rgb(0\, 0\, 0)\; border-right-style: none\; border-right-width: 0px\; border-top-color: rgb(0\, 0\, 0)\; border-top-left-radius: 0px\; border-top-right-radius: 0px\; border-top-style: none\; border-top-width: 0px\; bottom: auto\; box-shadow: none\; box-sizing: content-box\; clear: none\; color: rgb(0\, 0\, 0)\;  direction: ltr\; display: inline\; empty-cells: show\; float: none\; font-family: Calibri\; font-size: 14px\; font-size-adjust: none\; font-stretch: normal\; font-style: normal\; font-variant: normal\; font-weight: 200\; height: auto\; left: auto\; letter-spacing: normal\; line-height: 18.2px\; margin-bottom: 0px\; margin-left: 0px\; margin-right: 0px\; margin-top: 0px\; max-height: none\; max-width: none\; min-height: 0px\; min-width: 0px\; opacity: 1\; orphans: 2\; outline-color: transparent\; outline-offset: 0px\; outline-style: none\; outline-width: 0px\; overflow: visible\; padding-bottom: 0px\; padding-left: 0px\; padding-right: 0px\; padding-top: 0px\; position: static\; right: auto\; table-layout: auto\; text-align: left\; text-decoration: none\; text-indent: 0px\; text-justify: auto\; text-overflow: clip\; text-transform: none\; top: auto\; vertical-align: baseline\; visibility: visible\; -webkit-text-stroke-width: 0px\; white-space: normal\; width: auto\; word-break: normal\; word-spacing: 0px\; word-wrap: normal\; z-index: auto\;"> </font><span style="background-attachment: scroll\; background-clip: border-box\; background-color: transparent\; background-image: none\; background-origin: padding-box\; background-position-x: 0%\; background-position-y: 0%\; background-repeat: repeat\; background-size: auto\; border-bottom-color: rgb(68\, 68\, 68)\; border-bottom-left-radius: 0px\; border-bottom-right-radius: 0px\; border-bottom-style: none\; border-bottom-width: 0px\; border-collapse: separate\; border-image-outset: 0\; border-image-repeat: stretch\; border-image-slice: 100% 1 0\; border-image-source: none\; border-image-width: 1\; border-left-color: rgb(68\, 68\, 68)\; border-left-style: none\; border-left-width: 0px\; border-right-color: rgb(68\, 68\, 68)\; border-right-style: none\; border-right-width: 0px\; border-top-color: rgb(68\, 68\, 68)\; border-top-left-radius: 0px\; border-top-right-radius: 0px\; border-top-style: none\; border-top-width: 0px\; bottom: auto\; box-shadow: none\; box-sizing: content-box\; clear: none\; color: rgb(68\, 68\, 68)\;  direction: ltr\; display: inline\; empty-cells: show\; float: none\; font-family: Arial\,Helvetica\,sans-serif\; font-size: 16px\; font-size-adjust: none\; font-stretch: normal\; font-style: normal\; font-variant: normal\; font-weight: 200\; height: auto\; left: auto\; letter-spacing: normal\; line-height: 20.8px\; margin-bottom: 0px\; margin-left: 0px\; margin-right: 0px\; margin-top: 0px\; max-height: none\; max-width: none\; min-height: 0px\; min-width: 0px\; opacity: 1\; orphans: 2\; outline-color: invert\; outline-offset: 0px\; outline-style: none\; outline-width: 0px\; overflow: visible\; padding-bottom: 0px\; padding-left: 0px\; padding-right: 0px\; padding-top: 0px\; position: static\; right: auto\; table-layout: auto\; text-align: left\; text-decoration: none\; text-indent: 0px\; text-justify: auto\; text-overflow: clip\; text-transform: none\; top: auto\; vertical-align: baseline\; visibility: visible\; -webkit-text-stroke-width: 0px\; white-space: normal\; width: auto\; word-break: normal\; word-spacing: 0px\; word-wrap: normal\; z-index: auto\;"><font color="#000000" face="Calibri" style="background-attachment: scroll\; background-clip: border-box\; background-color: transparent\; background-image: none\; background-origin: padding-box\; background-position-x: 0%\; background-position-y: 0%\; background-repeat: repeat\; background-size: auto\; border-bottom-color: rgb(0\, 0\, 0)\; border-bottom-left-radius: 0px\; border-bottom-right-radius: 0px\; border-bottom-style: none\; border-bottom-width: 0px\; border-collapse: separate\; border-image-outset: 0\; border-image-repeat: stretch\; border-image-slice: 100%\; border-image-source: none\; border-image-width: 1\; border-left-color: rgb(0\, 0\, 0)\; border-left-style: none\; border-left-width: 0px\; border-right-color: rgb(0\, 0\, 0)\; border-right-style: none\; border-right-width: 0px\; border-top-color: rgb(0\, 0\, 0)\; border-top-left-radius: 0px\; border-top-right-radius: 0px\; border-top-style: none\; border-top-width: 0px\; bottom: auto\; box-shadow: none\; box-sizing: content-box\; clear: none\; color: rgb(0\, 0\, 0)\;  direction: ltr\; display: inline\; empty-cells: show\; float: none\; font-family: Calibri\; font-size: 16px\; font-size-adjust: none\; font-stretch: normal\; font-style: normal\; font-variant: normal\; font-weight: 200\; height: auto\; left: auto\; letter-spacing: normal\; line-height: 20.8px\; margin-bottom: 0px\; margin-left: 0px\; margin-right: 0px\; margin-top: 0px\; max-height: none\; max-width: none\; min-height: 0px\; min-width: 0px\; opacity: 1\; outline-color: transparent\; outline-offset: 0px\; outline-style: none\; outline-width: 0px\; overflow: visible\; padding-bottom: 0px\; padding-left: 0px\; padding-right: 0px\; padding-top: 0px\; position: static\; right: auto\; table-layout: auto\; text-align: left\; text-decoration: none\; text-indent: 0px\; text-justify: auto\; text-overflow: clip\; text-transform: none\; top: auto\; vertical-align: baseline\; visibility: visible\; white-space: normal\; width: auto\; word-break: normal\; word-spacing: 0px\; word-wrap: normal\; z-index: auto\;">networking group dedicated to &quot\;Growing Your Business&quot\;. Bring a raffle prize\, some business cards to share\, and a guest!</font></span>
LOCATION:Woodburn Area Chamber of Commerce Business Resource Center 124 West Lincoln Woodburn\, OR 97071
UID:e.1205.12169
SEQUENCE:3
DTSTAMP:20260420T105420Z
URL:https://business.woodburnchamber.org/events/details/greeters-portland-general-electric-12169
END:VEVENT

END:VCALENDAR
