BEGIN:VCALENDAR
VERSION:2.0
PRODID:-//ChamberMaster//Event Calendar 2.0//EN
METHOD:PUBLISH
X-PUBLISHED-TTL:P3D
REFRESH-INTERVAL:P3D
CALSCALE:GREGORIAN
BEGIN:VEVENT
DTSTART:20260320T143000Z
DTEND:20260320T160000Z
X-MICROSOFT-CDO-ALLDAYEVENT:FALSE
SUMMARY:Greeters - Hosted by the North Marion Adult Center
DESCRIPTION:Join us for Greeters hosted by The North Marion Adult Center.
X-ALT-DESC;FMTTYPE=text/html:Join us for Greeters hosted by The North Marion Adult Center.
LOCATION:North Marion Adult Center Immanuel Lutheran Church 1036 E Lincoln Woodburn\, OR 97071
UID:e.1205.12187
SEQUENCE:3
DTSTAMP:20260421T114409Z
URL:https://business.woodburnchamber.org/events/details/greeters-hosted-by-the-north-marion-adult-center-12187
END:VEVENT

END:VCALENDAR
