BEGIN:VCALENDAR
VERSION:2.0
PRODID:-//ChamberMaster//Event Calendar 2.0//EN
METHOD:PUBLISH
X-PUBLISHED-TTL:P3D
REFRESH-INTERVAL:P3D
CALSCALE:GREGORIAN
BEGIN:VEVENT
DTSTART:20260508T143000Z
DTEND:20260508T160000Z
X-MICROSOFT-CDO-ALLDAYEVENT:FALSE
SUMMARY:Greeters - Community Connection Day
DESCRIPTION:A networking group dedicated to "Growing Your Business". Bring a raffle prize\, some business cards to share\, and a guest! Come learn more about this dedicated group who provides so much to our community!
X-ALT-DESC;FMTTYPE=text/html:<div><span style="font-family:arial\;"><font color="#000000" size="2">A networking group dedicated to &quot\;Growing Your Business&quot\;. Bring a raffle prize\, some business cards to share\, and a guest! Come learn more about this dedicated group who provides so much to our community!</font></span></div>\n
LOCATION:Unitus Credit Union 2951 Stacy Allison Way Woodburn\, OR 97071
UID:e.1205.12206
SEQUENCE:3
DTSTAMP:20260424T234654Z
URL:https://business.woodburnchamber.org/events/details/greeters-community-connection-day-12206
END:VEVENT

END:VCALENDAR
