BEGIN:VCALENDAR
VERSION:2.0
PRODID:-//ChamberMaster//Event Calendar 2.0//EN
METHOD:PUBLISH
X-PUBLISHED-TTL:P3D
REFRESH-INTERVAL:P3D
CALSCALE:GREGORIAN
BEGIN:VEVENT
DTSTART:20151107T020000Z
DTEND:20151107T050000Z
X-MICROSOFT-CDO-ALLDAYEVENT:FALSE
SUMMARY:Crystal Apple Awards
DESCRIPTION:Crystal Apple Awards
X-ALT-DESC;FMTTYPE=text/html:Crystal Apple Awards&nbsp\;&nbsp\;&nbsp\;&nbsp\;
LOCATION:Silverton Health 1475 Mt Hood Ave Woodburn
UID:e.1205.7911
SEQUENCE:3
DTSTAMP:20260425T154517Z
URL:https://business.woodburnchamber.org/events/details/crystal-apple-awards-11-06-2015-7911
END:VEVENT

END:VCALENDAR
