BEGIN:VCALENDAR
VERSION:2.0
PRODID:-//ChamberMaster//Event Calendar 2.0//EN
METHOD:PUBLISH
X-PUBLISHED-TTL:P3D
REFRESH-INTERVAL:P3D
CALSCALE:GREGORIAN
BEGIN:VEVENT
DTSTART:20151113T220000Z
DTEND:20151113T230000Z
X-MICROSOFT-CDO-ALLDAYEVENT:FALSE
SUMMARY:Chili Cook Off-Honoring Veterans
DESCRIPTION:Join us for a Chili Cook Off with homeade cornbread honoring the men & women who have served our country.
X-ALT-DESC;FMTTYPE=text/html:Join us for a Chili Cook Off with homeade cornbread honoring the men &amp\; women who have served our country.
LOCATION:703 Evergreen Road Woodburn OR 97071
UID:e.1205.8946
SEQUENCE:3
DTSTAMP:20260425T154707Z
URL:https://business.woodburnchamber.org/events/details/chili-cook-off-honoring-veterans-11-13-2015-8946
END:VEVENT

END:VCALENDAR
