BEGIN:VCALENDAR
VERSION:2.0
PRODID:-//ChamberMaster//Event Calendar 2.0//EN
METHOD:PUBLISH
X-PUBLISHED-TTL:P3D
REFRESH-INTERVAL:P3D
CALSCALE:GREGORIAN
BEGIN:VEVENT
DTSTART:20151127T020000Z
DTEND:20151130T040000Z
X-MICROSOFT-CDO-ALLDAYEVENT:FALSE
SUMMARY:Black Friday Savings at Columbia Gorge Premium Outlets
DESCRIPTION:Shoppers can enjoy extra special savings on top of our every day savings of 25% - 65% off during this holiday weekend. Additionally\, there are extended hours at the Columbia Gorge Premium Outlets. Thursday\, November 26th: 6pm - 12am Friday\, November 27th: 12am - 10pm Saturday\, November 28th: 8am - 10pm Sunday\, November 29th: 9am - 8pm
X-ALT-DESC;FMTTYPE=text/html:Shoppers can enjoy extra special savings on top of our every day savings of 25% - 65% off during this holiday weekend. Additionally\, there are extended hours at the Columbia Gorge Premium Outlets. Thursday\, November 26th: 6pm - 12am Friday\, November 27th: 12am - 10pm Saturday\, November 28th: 8am - 10pm Sunday\, November 29th: 9am - 8pm
LOCATION:Columbia Gorge Premium Outlets 450 NW 257th Ave Troutdale\, Oregon 97060
UID:e.1205.8957
SEQUENCE:3
DTSTAMP:20260425T160252Z
URL:https://business.woodburnchamber.org/events/details/black-friday-savings-at-columbia-gorge-premium-outlets-11-26-2015-8957
END:VEVENT

END:VCALENDAR
